BEGIN:VCALENDAR
VERSION:2.0
PRODID:-//Chinmaya Gurukul - ECPv6.15.13//NONSGML v1.0//EN
CALSCALE:GREGORIAN
METHOD:PUBLISH
X-WR-CALNAME:Chinmaya Gurukul
X-ORIGINAL-URL:https://cmgurukul.org
X-WR-CALDESC:Events for Chinmaya Gurukul
REFRESH-INTERVAL;VALUE=DURATION:PT1H
X-Robots-Tag:noindex
X-PUBLISHED-TTL:PT1H
BEGIN:VTIMEZONE
TZID:America/New_York
BEGIN:DAYLIGHT
TZOFFSETFROM:-0500
TZOFFSETTO:-0400
TZNAME:EDT
DTSTART:20250309T070000
END:DAYLIGHT
BEGIN:STANDARD
TZOFFSETFROM:-0400
TZOFFSETTO:-0500
TZNAME:EST
DTSTART:20251102T060000
END:STANDARD
BEGIN:DAYLIGHT
TZOFFSETFROM:-0500
TZOFFSETTO:-0400
TZNAME:EDT
DTSTART:20260308T070000
END:DAYLIGHT
BEGIN:STANDARD
TZOFFSETFROM:-0400
TZOFFSETTO:-0500
TZNAME:EST
DTSTART:20261101T060000
END:STANDARD
BEGIN:DAYLIGHT
TZOFFSETFROM:-0500
TZOFFSETTO:-0400
TZNAME:EDT
DTSTART:20270314T070000
END:DAYLIGHT
BEGIN:STANDARD
TZOFFSETFROM:-0400
TZOFFSETTO:-0500
TZNAME:EST
DTSTART:20271107T060000
END:STANDARD
END:VTIMEZONE
BEGIN:VEVENT
DTSTART;TZID=America/New_York:20260417T190000
DTEND;TZID=America/New_York:20260417T203000
DTSTAMP:20260419T094530
CREATED:20250629T015524Z
LAST-MODIFIED:20250629T015528Z
UID:10008318-1776452400-1776457800@cmgurukul.org
SUMMARY:BalaVihar Friday Session
DESCRIPTION:
URL:https://cmgurukul.org/event/balavihar-friday-session/2026-04-17/
CATEGORIES:Bala Vihar
ATTACH;FMTTYPE=image/jpeg:https://cmgurukul.org/wp-content/uploads/2025/06/WhatsApp-Image-2025-06-19-at-14.17.59_7478c93d.jpg
END:VEVENT
END:VCALENDAR