BEGIN:VCALENDAR
VERSION:2.0
PRODID:-//Chinmaya Gurukul - ECPv6.15.13//NONSGML v1.0//EN
CALSCALE:GREGORIAN
METHOD:PUBLISH
X-WR-CALNAME:Chinmaya Gurukul
X-ORIGINAL-URL:https://cmgurukul.org
X-WR-CALDESC:Events for Chinmaya Gurukul
REFRESH-INTERVAL;VALUE=DURATION:PT1H
X-Robots-Tag:noindex
X-PUBLISHED-TTL:PT1H
BEGIN:VTIMEZONE
TZID:America/New_York
BEGIN:DAYLIGHT
TZOFFSETFROM:-0500
TZOFFSETTO:-0400
TZNAME:EDT
DTSTART:20250309T070000
END:DAYLIGHT
BEGIN:STANDARD
TZOFFSETFROM:-0400
TZOFFSETTO:-0500
TZNAME:EST
DTSTART:20251102T060000
END:STANDARD
BEGIN:DAYLIGHT
TZOFFSETFROM:-0500
TZOFFSETTO:-0400
TZNAME:EDT
DTSTART:20260308T070000
END:DAYLIGHT
BEGIN:STANDARD
TZOFFSETFROM:-0400
TZOFFSETTO:-0500
TZNAME:EST
DTSTART:20261101T060000
END:STANDARD
BEGIN:DAYLIGHT
TZOFFSETFROM:-0500
TZOFFSETTO:-0400
TZNAME:EDT
DTSTART:20270314T070000
END:DAYLIGHT
BEGIN:STANDARD
TZOFFSETFROM:-0400
TZOFFSETTO:-0500
TZNAME:EST
DTSTART:20271107T060000
END:STANDARD
END:VTIMEZONE
BEGIN:VEVENT
DTSTART;TZID=America/New_York:20260421T190000
DTEND;TZID=America/New_York:20260421T200000
DTSTAMP:20260421T062512
CREATED:20250818T204124Z
LAST-MODIFIED:20250818T204127Z
UID:10008855-1776798000-1776801600@cmgurukul.org
SUMMARY:Vedic Chanting Adult Class
DESCRIPTION:Vedic Chanting Adult Class
URL:https://cmgurukul.org/event/vedic-chanting-adult-class/2026-04-21/
LOCATION:Chinmaya Gurukul\, 4980 Pittman Rd.\, GA\, 30040\, United States
CATEGORIES:Adult Study Class
END:VEVENT
END:VCALENDAR